BEGIN:VCALENDAR
VERSION:2.0
PRODID:-//Kitab i  Arzan - ECPv6.10.0//NONSGML v1.0//EN
CALSCALE:GREGORIAN
METHOD:PUBLISH
X-WR-CALNAME:Kitab i  Arzan
X-ORIGINAL-URL:https://arzan.se
X-WR-CALDESC:Events for Kitab i  Arzan
REFRESH-INTERVAL;VALUE=DURATION:PT1H
X-Robots-Tag:noindex
X-PUBLISHED-TTL:PT1H
BEGIN:VTIMEZONE
TZID:Europe/Stockholm
BEGIN:DAYLIGHT
TZOFFSETFROM:+0100
TZOFFSETTO:+0200
TZNAME:CEST
DTSTART:20250330T010000
END:DAYLIGHT
BEGIN:STANDARD
TZOFFSETFROM:+0200
TZOFFSETTO:+0100
TZNAME:CET
DTSTART:20251026T010000
END:STANDARD
END:VTIMEZONE
BEGIN:VEVENT
DTSTART;TZID=Europe/Stockholm:20250523T140000
DTEND;TZID=Europe/Stockholm:20250523T153000
DTSTAMP:20260425T132224
CREATED:20250523T094826Z
LAST-MODIFIED:20250523T094826Z
UID:14119-1748008800-1748014200@arzan.se
SUMMARY: رونمایی ویژه کتاب در نمایشگاه کتاب بدون سانسور  یوتوبوری ۲۰۲۵
DESCRIPTION:رونمایی ویژه دو کتاب در نمایشگاه کتاب بدون سانسور یوتوبوری ۲۰۲۵ \nنشر کتاب ارزانشما را به مراسم رونمایی و معرفی دو اثر تازه دعوت می‌کند: \nجمعه ۲۳ مه \n\n\nساعت ۱۴:۰۰ تا ۱۵:۳۰\nرونمایی کتاب «در حاشیه» اثر فرزانه راجی\nبا حضور ناصر زراعتی \nرونمایی کتاب «یادداشت‌های یک کتاب‌فروش»\nنوشته‌ی ناصر زراعتی\n\nمکان رویداد:\nSödra Allé gatan 1B\, 41301 Göteborg \nمنتظر حضور گرم شما در سالن نمایشگاه هستیم!\nبا حضور ناشران مستقل، نویسندگان و علاقه‌مندان به ادبیات و کتاب فارسی. \nاطلاعات بیشتر و برنامه کامل: arzan.se \n\nویژگی‌های این رویداد: \n\n\nمعرفی و رونمایی کتاب‌های جدید از نویسندگان معاصر \n\n\nگفت‌وگو با نویسندگان و ناشران مستقل \n\n\nفرصتی برای دیدار، بحث و شبکه‌سازی در فضای فرهنگی و ادبی شهر یوتوبوری
URL:https://arzan.se/event/%d8%b1%d9%88%d9%86%d9%85%d8%a7%db%8c%db%8c-%d9%88%db%8c%da%98%d9%87-%da%a9%d8%aa%d8%a7%d8%a8-%d8%af%d8%b1-%d9%86%d9%85%d8%a7%db%8c%d8%b4%da%af%d8%a7%d9%87-%da%a9%d8%aa%d8%a7%d8%a8-%d8%a8%d8%af/
CATEGORIES:رونمائی کتاب,کتاب ارزان,نمایشگاه کتاب
ATTACH;FMTTYPE=image/jpeg:https://arzan.se/wp-content/uploads/2025/05/003FWebPostRonani_NamishKetabBedonGoteborgنمایشگاه-کتاب-رونماییی-Arzan-Amir-20205-V1.0.0-Copy.jpg
END:VEVENT
END:VCALENDAR