BEGIN:VCALENDAR
VERSION:2.0
PRODID:-//Kitab i  Arzan - ECPv6.10.0//NONSGML v1.0//EN
CALSCALE:GREGORIAN
METHOD:PUBLISH
X-WR-CALNAME:Kitab i  Arzan
X-ORIGINAL-URL:https://arzan.se
X-WR-CALDESC:Events for Kitab i  Arzan
REFRESH-INTERVAL;VALUE=DURATION:PT1H
X-Robots-Tag:noindex
X-PUBLISHED-TTL:PT1H
BEGIN:VTIMEZONE
TZID:Europe/Stockholm
BEGIN:DAYLIGHT
TZOFFSETFROM:+0100
TZOFFSETTO:+0200
TZNAME:CEST
DTSTART:20250330T010000
END:DAYLIGHT
BEGIN:STANDARD
TZOFFSETFROM:+0200
TZOFFSETTO:+0100
TZNAME:CET
DTSTART:20251026T010000
END:STANDARD
END:VTIMEZONE
BEGIN:VEVENT
DTSTART;TZID=Europe/Stockholm:20250216T140000
DTEND;TZID=Europe/Stockholm:20250216T160000
DTSTAMP:20260425T231142
CREATED:20250206T194309Z
LAST-MODIFIED:20250418T174922Z
UID:13472-1739714400-1739721600@arzan.se
SUMMARY:شعرخوانی و گفتگو; سید ضیا قاسمی
DESCRIPTION:شعرخوانی و گفتگو \nسید ضیا قاسمی \nیکشنبه 16 فوریه \nاز ساعت 14:00 تا 16:00 \nTFN:+46 70 4926924
URL:https://arzan.se/event/%d8%b4%d8%b9%d8%b1%d8%ae%d9%88%d8%a7%d9%86%db%8c-%d9%88-%da%af%d9%81%d8%aa%da%af%d9%88-%d8%b3%db%8c%d8%af-%d8%b6%db%8c%d8%a7-%d9%82%d8%a7%d8%b3%d9%85%db%8c/
LOCATION:Kitab i Arzan کتاب فروشی ارزان\, Helsingforsgatan 15 Akalla\, Kista\, Stockholm\, 164 78\, Sweden
CATEGORIES:شعرخوانی
ATTACH;FMTTYPE=image/webp:https://arzan.se/wp-content/uploads/2025/02/003FWebPosterSherKhani-ZiaGhasemi202502Arzan-Amir.V1.0.0-3.webp
ORGANIZER;CN="Kitab i Arzan %DA%A9%D8%AA%D8%A7%D8%A8 %D9%81%D8%B1%D9%88%D8%B4%DB%8C %D8%A7%D8%B1%D8%B2%D8%A7%D9%86":MAILTO:info@arzan.se
END:VEVENT
END:VCALENDAR