BEGIN:VCALENDAR
VERSION:2.0
PRODID:-//Kitab i  Arzan - ECPv6.10.0//NONSGML v1.0//EN
CALSCALE:GREGORIAN
METHOD:PUBLISH
X-WR-CALNAME:Kitab i  Arzan
X-ORIGINAL-URL:https://arzan.se
X-WR-CALDESC:Events for Kitab i  Arzan
REFRESH-INTERVAL;VALUE=DURATION:PT1H
X-Robots-Tag:noindex
X-PUBLISHED-TTL:PT1H
BEGIN:VTIMEZONE
TZID:Europe/Stockholm
BEGIN:DAYLIGHT
TZOFFSETFROM:+0100
TZOFFSETTO:+0200
TZNAME:CEST
DTSTART:20250330T010000
END:DAYLIGHT
BEGIN:STANDARD
TZOFFSETFROM:+0200
TZOFFSETTO:+0100
TZNAME:CET
DTSTART:20251026T010000
END:STANDARD
END:VTIMEZONE
BEGIN:VEVENT
DTSTART;TZID=Europe/Stockholm:20250126T140000
DTEND;TZID=Europe/Stockholm:20250126T160000
DTSTAMP:20260426T034913
CREATED:20250122T081542Z
LAST-MODIFIED:20250122T081542Z
UID:13393-1737900000-1737907200@arzan.se
SUMMARY:شعرخوانی و گفت و شنود یاور استوار
DESCRIPTION:شعرخوانی و گفت و شنود \nیاور استوار \nیکشنبه 26 ژانویه\nاز ساعت 14:00 تا 16:00، کتابفروشی و چاپ ارزان \nانجمن فرهنگی آموزشی کسری \n 
URL:https://arzan.se/event/%d8%b4%d8%b9%d8%b1%d8%ae%d9%88%d8%a7%d9%86%db%8c-%d9%88-%da%af%d9%81%d8%aa-%d9%88-%d8%b4%d9%86%d9%88%d8%af-%db%8c%d8%a7%d9%88%d8%b1-%d8%a7%d8%b3%d8%aa%d9%88%d8%a7%d8%b1/
LOCATION:Kitab i Arzan کتاب فروشی ارزان\, Helsingforsgatan 15 Akalla\, Kista\, Stockholm\, 164 78\, Sweden
CATEGORIES:شعرخوانی
ATTACH;FMTTYPE=image/jpeg:https://arzan.se/wp-content/uploads/2025/01/Sher-26Jan.jpeg
END:VEVENT
END:VCALENDAR