BEGIN:VCALENDAR
VERSION:2.0
PRODID:-//Kitab i  Arzan - ECPv6.10.0//NONSGML v1.0//EN
CALSCALE:GREGORIAN
METHOD:PUBLISH
X-WR-CALNAME:Kitab i  Arzan
X-ORIGINAL-URL:https://arzan.se
X-WR-CALDESC:Events for Kitab i  Arzan
REFRESH-INTERVAL;VALUE=DURATION:PT1H
X-Robots-Tag:noindex
X-PUBLISHED-TTL:PT1H
BEGIN:VTIMEZONE
TZID:Europe/Stockholm
BEGIN:DAYLIGHT
TZOFFSETFROM:+0100
TZOFFSETTO:+0200
TZNAME:CEST
DTSTART:20240331T010000
END:DAYLIGHT
BEGIN:STANDARD
TZOFFSETFROM:+0200
TZOFFSETTO:+0100
TZNAME:CET
DTSTART:20241027T010000
END:STANDARD
END:VTIMEZONE
BEGIN:VEVENT
DTSTART;TZID=Europe/Stockholm:20241124T140000
DTEND;TZID=Europe/Stockholm:20241124T160000
DTSTAMP:20260425T185058
CREATED:20241114T120910Z
LAST-MODIFIED:20241116T124359Z
UID:13006-1732456800-1732464000@arzan.se
SUMMARY:شعر خوانی و گفتگو با محمد شریف سعیدی
DESCRIPTION:   محمد شریف سعیدی شاعر و پژوهشگر زبان و ادبیان فارسی\nمسافران كه يكايك پياده گرديدند\nسه راه خون و سرك های مرده را ديدند\nسه چار مرد مسلح، خشاب نو كردند\nو در برابر مردم به طعنه خنديدند\nكنار شانهء هم ايستاد شان كردند\nومثل مهرء شطرنج بر زمين چيدند\nكنار ريش درازی نشست تا قنداق،\nزخواب، دختركان يتيم ترسيدند\nجنازه ها را بردند تا سرچاهی\nوجيب های تهی را دو باره پاليدند\nسه چار كركس و سگ، دور چاه می گشتند\nشبانه دختركان خواب صلح می ديدند
URL:https://arzan.se/event/%d8%b4%d8%b9%d8%b1-%d8%ae%d9%88%d8%a7%d9%86%db%8c-%d9%88-%da%af%d9%81%d8%aa%da%af%d9%88-%d8%a8%d8%a7-%d9%85%d8%ad%d9%85%d8%af-%d8%b4%d8%b1%db%8c%d9%81-%d8%b3%d8%b9%db%8c%d8%af%db%8c-%db%8c%da%a9%d8%b4/
LOCATION:Kitab i Arzan کتاب فروشی ارزان\, Helsingforsgatan 15 Akalla\, Kista\, Stockholm\, 164 78\, Sweden
CATEGORIES:شعرخوانی
ATTACH;FMTTYPE=image/jpeg:https://arzan.se/wp-content/uploads/2024/10/unnamed-file-e1731591763680.jpeg
END:VEVENT
END:VCALENDAR