BEGIN:VCALENDAR
VERSION:2.0
PRODID:-//Kitab i  Arzan - ECPv6.10.0//NONSGML v1.0//EN
CALSCALE:GREGORIAN
METHOD:PUBLISH
X-WR-CALNAME:Kitab i  Arzan
X-ORIGINAL-URL:https://arzan.se
X-WR-CALDESC:Events for Kitab i  Arzan
REFRESH-INTERVAL;VALUE=DURATION:PT1H
X-Robots-Tag:noindex
X-PUBLISHED-TTL:PT1H
BEGIN:VTIMEZONE
TZID:Europe/Stockholm
BEGIN:DAYLIGHT
TZOFFSETFROM:+0100
TZOFFSETTO:+0200
TZNAME:CEST
DTSTART:20250330T010000
END:DAYLIGHT
BEGIN:STANDARD
TZOFFSETFROM:+0200
TZOFFSETTO:+0100
TZNAME:CET
DTSTART:20251026T010000
END:STANDARD
END:VTIMEZONE
BEGIN:VEVENT
DTSTART;TZID=Europe/Stockholm:20250510T140000
DTEND;TZID=Europe/Stockholm:20250510T160000
DTSTAMP:20260425T213047
CREATED:20250418T180205Z
LAST-MODIFIED:20250428T224246Z
UID:13971-1746885600-1746892800@arzan.se
SUMMARY:🔸شنبه🔸برای خودم🔹🔹🔹من از نو🔹🔹🔹۱۴ تا ۱۶🕒۱۰ می🔹Three "Saturdays" for Myself  🔹A Trilogy of Inner Reflection: Encounters with the Self🔹Myself\, Anew
DESCRIPTION:سه   \n “شنبه” برای خودم – سه‌گانه‌ای در خودشناسی  \n\nسه‌گانه‌ی درون‌نگری: ملاقات‌هایی با خویشتن\nبا دکتر میترا بیگی\nمدرس دانشگاه و مشاور سلامت روان در منطقه مدیترانه شرقی\nعضو هیئت مدیره‌ی انجمن جهانی توانبخشی روانی اجتماعی (WAPR) \nدر این سلسله نشست‌های سه‌گانه، سفری به درون خواهیم داشت. هر هفته، در یک گفت‌وگوی جمعی، نگاهی عمیق‌تر به خودمان می‌اندازیم: \n🔹ملاقات اول: در آیینه‌ی دیگری🔹\nچه چیزهایی را از خود پنهان کرده‌ام؟\nشناخت آن‌ها چه کمکی به من می‌کند؟ \n🔹 ملاقات دوم: نیمه‌ی نادیده🔹\nانرژی‌های زنانه و مردانه در روان من\nچطور این انرژی‌ها بر من اثر می‌گذارند؟ \n🔹 ملاقات سوم: من از نو🔹\nراهنمایی برای بازاندیشی و بازنگری زندگی من \n\n🕒 زمان برگزاری:\nروزهای شنبه، ساعت ۱۴ تا ۱۶\n🔸 ملاقات اول: ۲۶ آوریل🔸\n🔸 ملاقات دوم: ۳ می🔸\n🔸 ملاقات سوم: ۱۰ می🔸 \nمکان📍\nکتابفروشی و انتشارات کتاب ارزان\nKitab i Arzan\nHelsingforsgatan 15\, Akalla – Stockholm \n🌐 arzan.se\n✉️ info@arzan.se \n \n  \nThree “Saturdays” for Myself\nA Trilogy of Inner Reflection: Encounters with the Self \n\nWith Dr. Mitra Beigi\nUniversity Lecturer and Mental Health Consultant in the Eastern Mediterranean Region\nat the World Association for Psychosocial Rehabilitation (WAPR)\n\nFirst Encounter: In the Mirror of the Other \nWhat have I hidden from myself? \nHow can recognizing these parts help me? \n\nSecond Encounter: The Unseen Half\nThe feminine and masculine energies in my psyche \nHow do these energies influence me? \n\nThird Encounter: Myself\, Anew\nA guide to rethinking and re-planing my life \n\nTime: \nSaturdays (my version of “Tuesday”!) from 14:00 to 16:00 \n\nDates: \nFirst Encounter: April 26 \nSecond Encounter: May 3 \nThird Encounter: May 10 \n 
URL:https://arzan.se/event/%f0%9f%94%b8%d8%b4%d9%86%d8%a8%d9%87%f0%9f%94%b8%d8%a8%d8%b1%d8%a7%db%8c-%d8%ae%d9%88%d8%af%d9%85%f0%9f%94%b9%f0%9f%94%b9%d9%86%db%8c%d9%85%d9%87%db%8c-%d9%86%d8%a7%d8%af%db%8c%d8%af%d9%87/
LOCATION:Kitab i Arzan کتاب فروشی ارزان\, Helsingforsgatan 15 Akalla\, Kista\, Stockholm\, 164 78\, Sweden
CATEGORIES:سخنرانی-Lecture,کتاب ارزان
ATTACH;FMTTYPE=image/jpeg:https://arzan.se/wp-content/uploads/2025/04/003FWebEven304-200Poster_DrMitra_‌شنبه-برای-خودم_Amir-V1.0.jpg
ORGANIZER;CN="Kitab i Arzan %DA%A9%D8%AA%D8%A7%D8%A8 %D9%81%D8%B1%D9%88%D8%B4%DB%8C %D8%A7%D8%B1%D8%B2%D8%A7%D9%86":MAILTO:info@arzan.se
END:VEVENT
END:VCALENDAR