BEGIN:VCALENDAR
VERSION:2.0
PRODID:-//Kitab i  Arzan - ECPv6.10.0//NONSGML v1.0//EN
CALSCALE:GREGORIAN
METHOD:PUBLISH
X-ORIGINAL-URL:https://arzan.se
X-WR-CALDESC:Events for Kitab i  Arzan
REFRESH-INTERVAL;VALUE=DURATION:PT1H
X-Robots-Tag:noindex
X-PUBLISHED-TTL:PT1H
BEGIN:VTIMEZONE
TZID:Europe/Stockholm
BEGIN:DAYLIGHT
TZOFFSETFROM:+0100
TZOFFSETTO:+0200
TZNAME:CEST
DTSTART:20260329T010000
END:DAYLIGHT
BEGIN:STANDARD
TZOFFSETFROM:+0200
TZOFFSETTO:+0100
TZNAME:CET
DTSTART:20261025T010000
END:STANDARD
END:VTIMEZONE
BEGIN:VEVENT
DTSTART;TZID=Europe/Stockholm:20260131T160000
DTEND;TZID=Europe/Stockholm:20260131T180000
DTSTAMP:20260425T213848
CREATED:20260123T201555Z
LAST-MODIFIED:20260123T205753Z
UID:14522-1769875200-1769882400@arzan.se
SUMMARY:رونمایی کتاب   «درجستچوی سوسیالیسم»   شنبه  ۳۱ ژانویه ⏰ ساعت: ۱۵ تا ۱۷
DESCRIPTION:رونمایی کتاب «در جستجوی سوسیالیسم»\n\nعنوان: در جستجوی سوسیالیسم\nنویسنده: صدیق جهانی\nناشر: کتاب ارزان\nچاپ: چاپ اول 2025\nشابک (ISBN): 9789199109794 \nدرباره کتاب:\n«در جستجوی سوسیالیسم» روایتِ یک پرسش زنده است: چرا در جهانی که می‌تواند برای همه قابل‌زیستن باشد، شیرینی زندگی به امتیاز تبدیل می‌شود؟ صدیق جهانی با نگاهی انسانی و کاوش‌گر، از تجربه‌ی تبعیضِ زیسته آغاز می‌کند و به سراغ ساختارهایی می‌رود که نابرابری را بازتولید می‌کنند؛ ساختارهایی که در آن‌ها سود، بر انسان مقدم می‌شود. در این کتاب، سوسیالیسم نه شعار سیاسی، بلکه یک ضرورت اخلاقی و اجتماعی معرفی می‌شود: راهی برای بازگرداندن کرامت و حقِ زندگی به همه، نه فقط آنان که با امتیاز زاده شده‌اند. \n\nبرنامه رونمایی\n\nتاریخ: شنبه ۳۱ ژانویه\nساعت: ۱۵:۰۰ تا ۱۷:۰۰\nمکان: کتابفروشی و انتشارات کتاب ارزان — Helsingforsgatan 15\, 164 78 Kista (Stockholm)\nبا حضور: نویسنده (صدیق جهانی) و جمعی از صاحب نظران و علاقه‌مندان\n \n☎️ تلفن: 0046704926924\n\n\nحضور برای عموم آزاد است. اگر دوست دارید درباره عدالت اجتماعی، نابرابری، تجربه زیسته و مسیرهای ممکنِ تغییر گفتگو کنید، خوشحال می‌شویم شما را ببینیم. \n9789199109794جهانی صدیق-درجستچوی سوسیالیسم\n  \n\n 
URL:https://arzan.se/event/9789199109794%d8%b1%d9%88%d9%86%d9%85%d8%a7%db%8c%db%8c-%da%a9%d8%aa%d8%a7%d8%a8-%d8%af%d8%b1%d8%ac%d8%b3%d8%aa%da%86%d9%88%db%8c-%d8%b3%d9%88%d8%b3%db%8c%d8%a7%d9%84%db%8c%d8%b3%d9%85/
LOCATION:Kitab i Arzan کتاب فروشی ارزان\, Helsingforsgatan 15 Akalla\, Kista\, Stockholm\, 164 78\, Sweden
CATEGORIES:رونمائی کتاب,سیاسی,علوم اجتماعی,کتاب ارزان
ATTACH;FMTTYPE=image/jpeg:https://arzan.se/wp-content/uploads/2026/01/FInsta_003Poster_Ronami9789199109794جهانی-صدیق-درجستچوی-سوسیالیسمArzan_Amir_V1.0.jpg
END:VEVENT
END:VCALENDAR